BEGIN:VCALENDAR
VERSION:2.0
PRODID:-//eventon.com NONSGML v1.0//EN
CALSCALE:GREGORIAN
METHOD:PUBLISH
BEGIN:VEVENT
UID:69e50dc7b8215
DTSTAMP:20260419T171551Z
DTSTART:20260604T154500Z
DTEND:20260604T173000Z
LOCATION:The Center for Great Expectations 19 Dellwood Ln\,  Somerset\,  NJ
SUMMARY:Information Reception & Tour
DESCRIPTION:On Thursday\,  June 4\,  2026\,  CGE will be hosting a free Inf
 ormation Reception and tour.  A light lunch will be served at 11:45 follow
 ed by the program at noon.  Peg and clinical staff members will speak.  Y
 ou&#8217;ll see a video then tour the campus.  The event is open to the[..
 ]\nhttps://www.cge-nj.org/events/information-reception-tour-2/
URL:https://www.cge-nj.org/events/information-reception-tour-2/
END:VEVENT
END:VCALENDAR