BEGIN:VCALENDAR
VERSION:2.0
PRODID:-//eventon.com NONSGML v1.0//EN
CALSCALE:GREGORIAN
METHOD:PUBLISH
BEGIN:VEVENT
UID:69e50d6a5c240
DTSTAMP:20260419T171418Z
DTSTART:20261106T230000Z
DTEND:20261107T040000Z
LOCATION:The Marigold in Somerset\,  315 Churchill Avenue\,  Somerset\,  NJ
SUMMARY:Hope Lives Here Gala
DESCRIPTION:Hope Lives Here Gala\nhttps://www.cge-nj.org/events/hope-lives-
 here-gala/
URL:https://www.cge-nj.org/events/hope-lives-here-gala/
END:VEVENT
END:VCALENDAR