BEGIN:VCALENDAR
VERSION:2.0
PRODID:-//eventon.com NONSGML v1.0//EN
CALSCALE:GREGORIAN
METHOD:PUBLISH
BEGIN:VEVENT
UID:69e50ca60b25a
DTSTAMP:20260419T171102Z
DTSTART:20260629T140000Z
DTEND:20260629T230000Z
LOCATION:Fiddler's Elbow 811 Rattlesnake Bridge Road Bedminster\,  Whitehouse Station\,  NJ
SUMMARY:Ken Daneyko Golf Classic
DESCRIPTION:Stanley Cup Sponsor: AvalonBay Communities\nhttps://www.cge-nj
 .org/events/ken-daneyko-golf-classic/
URL:https://www.cge-nj.org/events/ken-daneyko-golf-classic/
END:VEVENT
END:VCALENDAR