BEGIN:VCALENDAR
VERSION:2.0
PRODID:-//eventon.com NONSGML v1.0//EN
CALSCALE:GREGORIAN
METHOD:PUBLISH
BEGIN:VEVENT
UID:69e50c050bda0
DTSTAMP:20260419T170821Z
DTSTART:20260410T143000Z
DTEND:20260410T183000Z
LOCATION:The Marigold in Somerset 315 Churchill Avenue\,  Somerset\,  NJ
SUMMARY:Hope Takes Flight
DESCRIPTION:Rose Event Sponsor: EAB\nhttps://www.cge-nj.org/events/hope-ta
 kes-flight/
URL:https://www.cge-nj.org/events/hope-takes-flight/
END:VEVENT
END:VCALENDAR